BEGIN:VCALENDAR
VERSION:2.0
PRODID:-//ARTE, The Makers&#039; Market - ECPv6.15.20//NONSGML v1.0//EN
CALSCALE:GREGORIAN
METHOD:PUBLISH
X-WR-CALNAME:ARTE, The Makers&#039; Market
X-ORIGINAL-URL:https://arte.ae
X-WR-CALDESC:Events for ARTE, The Makers&#039; Market
REFRESH-INTERVAL;VALUE=DURATION:PT1H
X-Robots-Tag:noindex
X-PUBLISHED-TTL:PT1H
BEGIN:VTIMEZONE
TZID:UTC
BEGIN:STANDARD
TZOFFSETFROM:+0000
TZOFFSETTO:+0000
TZNAME:UTC
DTSTART:20250101T000000
END:STANDARD
END:VTIMEZONE
BEGIN:VEVENT
DTSTART;TZID=UTC:20260425T100000
DTEND;TZID=UTC:20260425T190000
DTSTAMP:20260420T004511
CREATED:20250107T054236Z
LAST-MODIFIED:20251216T183338Z
UID:2559-1777111200-1777143600@arte.ae
SUMMARY:ARTE at Times Square Center
DESCRIPTION:Times Square Center is centrally located on Sheikh Zayed Road. A uniquely compact community shopping destination which offers a perfect location to ARTE\, the Makers’ Market. \nThere are always a great number of vendors selling a variety of handmade products so you can spend plenty of time browsing to find something you like and perhaps also stop for lunch in one of the restaurants. \nShop local\, buy the unique\, one-of-a-kind gorgeousness that is ARTE\, The Makers’ Market.
URL:https://arte.ae/events-old/arte-at-times-square-center-8/
LOCATION:Times Square Center\, Times Square Center\, 4B St - Al Quoz - Dubai\, Dubai\, United Arab Emirates
ATTACH;FMTTYPE=image/jpeg:https://arte.ae/wp-content/uploads/2025/01/TSC.jpg
END:VEVENT
BEGIN:VEVENT
DTSTART;TZID=UTC:20260502T100000
DTEND;TZID=UTC:20260502T220000
DTSTAMP:20260420T004511
CREATED:20241220T053109Z
LAST-MODIFIED:20260105T084730Z
UID:2427-1777716000-1777759200@arte.ae
SUMMARY:ARTE at Mercato Mall
DESCRIPTION:Mercato Mall\, located on Jumeirah Beach Road\, is one of Dubai’s most charismatic and best loved shopping malls because of its individual and unequalled ambience. Although Mercato is essentially a community mall\, it also attracts tens of thousands of tourists from all over the world every year. \nMercato Mall is home to over 140 shops and service outlets and ARTE\, The Makers’ Market takes pride in sitting in this beautiful environment. This unique handmade market features 35 Artisans of the Emirates. \nFind ARTE on the first floor near Vox Cinemas\, Virgin Megastore\, Fun City and an international food court.
URL:https://arte.ae/events-old/arte-at-mercato-mall-19/
LOCATION:Mercato Mall\, Mercato Mall\, Jumeirah Beach Rd - Jumeirah - Jumeirah 1 - Dubai\, Dubai\, United Arab Emirates
ATTACH;FMTTYPE=image/jpeg:https://arte.ae/wp-content/uploads/2024/12/Hello-Mercato-Sunrise.jpeg
END:VEVENT
BEGIN:VEVENT
DTSTART;TZID=UTC:20260509T100000
DTEND;TZID=UTC:20260509T190000
DTSTAMP:20260420T004511
CREATED:20250107T054330Z
LAST-MODIFIED:20251216T183427Z
UID:2561-1778320800-1778353200@arte.ae
SUMMARY:ARTE at Times Square Center
DESCRIPTION:Times Square Center is centrally located on Sheikh Zayed Road. A uniquely compact community shopping destination which offers a perfect location to ARTE\, the Makers’ Market. \nThere are always a great number of vendors selling a variety of handmade products so you can spend plenty of time browsing to find something you like and perhaps also stop for lunch in one of the restaurants. \nShop local\, buy the unique\, one-of-a-kind gorgeousness that is ARTE\, The Makers’ Market.
URL:https://arte.ae/events-old/arte-at-times-square-center-9/
LOCATION:Times Square Center\, Times Square Center\, 4B St - Al Quoz - Dubai\, Dubai\, United Arab Emirates
ATTACH;FMTTYPE=image/jpeg:https://arte.ae/wp-content/uploads/2025/01/TSC.jpg
END:VEVENT
BEGIN:VEVENT
DTSTART;TZID=UTC:20260516T100000
DTEND;TZID=UTC:20260516T220000
DTSTAMP:20260420T004511
CREATED:20241220T053341Z
LAST-MODIFIED:20260105T084743Z
UID:2429-1778925600-1778968800@arte.ae
SUMMARY:ARTE at Mercato Mall
DESCRIPTION:Mercato Mall\, located on Jumeirah Beach Road\, is one of Dubai’s most charismatic and best loved shopping malls because of its individual and unequalled ambience. Although Mercato is essentially a community mall\, it also attracts tens of thousands of tourists from all over the world every year. \nMercato Mall is home to over 140 shops and service outlets and ARTE\, The Makers’ Market takes pride in sitting in this beautiful environment. This unique handmade market features 35 Artisans of the Emirates. \nFind ARTE on the first floor near Vox Cinemas\, Virgin Megastore\, Fun City and an international food court.
URL:https://arte.ae/events-old/arte-at-mercato-mall-18/
LOCATION:Mercato Mall\, Mercato Mall\, Jumeirah Beach Rd - Jumeirah - Jumeirah 1 - Dubai\, Dubai\, United Arab Emirates
ATTACH;FMTTYPE=image/jpeg:https://arte.ae/wp-content/uploads/2024/12/Hello-Mercato-Sunrise.jpeg
END:VEVENT
BEGIN:VEVENT
DTSTART;TZID=UTC:20260517T100000
DTEND;TZID=UTC:20260517T220000
DTSTAMP:20260420T004511
CREATED:20241220T053552Z
LAST-MODIFIED:20260105T084756Z
UID:2431-1779012000-1779055200@arte.ae
SUMMARY:ARTE at Mercato Mall
DESCRIPTION:Mercato Mall\, located on Jumeirah Beach Road\, is one of Dubai’s most charismatic and best loved shopping malls because of its individual and unequalled ambience. Although Mercato is essentially a community mall\, it also attracts tens of thousands of tourists from all over the world every year. \nMercato Mall is home to over 140 shops and service outlets and ARTE\, The Makers’ Market takes pride in sitting in this beautiful environment. This unique handmade market features 35 Artisans of the Emirates. \nFind ARTE on the first floor near Vox Cinemas\, Virgin Megastore\, Fun City and an international food court.
URL:https://arte.ae/events-old/arte-at-mercato-mall-17/
LOCATION:Mercato Mall\, Mercato Mall\, Jumeirah Beach Rd - Jumeirah - Jumeirah 1 - Dubai\, Dubai\, United Arab Emirates
ATTACH;FMTTYPE=image/jpeg:https://arte.ae/wp-content/uploads/2024/12/Hello-Mercato-Sunrise.jpeg
END:VEVENT
BEGIN:VEVENT
DTSTART;TZID=UTC:20260523T100000
DTEND;TZID=UTC:20260523T190000
DTSTAMP:20260420T004511
CREATED:20250107T054454Z
LAST-MODIFIED:20251216T183436Z
UID:2563-1779530400-1779562800@arte.ae
SUMMARY:ARTE at Times Square Center
DESCRIPTION:Times Square Center is centrally located on Sheikh Zayed Road. A uniquely compact community shopping destination which offers a perfect location to ARTE\, the Makers’ Market. \nThere are always a great number of vendors selling a variety of handmade products so you can spend plenty of time browsing to find something you like and perhaps also stop for lunch in one of the restaurants. \nShop local\, buy the unique\, one-of-a-kind gorgeousness that is ARTE\, The Makers’ Market.
URL:https://arte.ae/events-old/arte-at-times-square-center-10/
LOCATION:Times Square Center\, Times Square Center\, 4B St - Al Quoz - Dubai\, Dubai\, United Arab Emirates
ATTACH;FMTTYPE=image/jpeg:https://arte.ae/wp-content/uploads/2025/01/TSC.jpg
END:VEVENT
BEGIN:VEVENT
DTSTART;TZID=UTC:20260530T100000
DTEND;TZID=UTC:20260530T190000
DTSTAMP:20260420T004511
CREATED:20250107T054540Z
LAST-MODIFIED:20251216T183446Z
UID:2565-1780135200-1780167600@arte.ae
SUMMARY:ARTE at Times Square Center
DESCRIPTION:Times Square Center is centrally located on Sheikh Zayed Road. A uniquely compact community shopping destination which offers a perfect location to ARTE\, the Makers’ Market. \nThere are always a great number of vendors selling a variety of handmade products so you can spend plenty of time browsing to find something you like and perhaps also stop for lunch in one of the restaurants. \nShop local\, buy the unique\, one-of-a-kind gorgeousness that is ARTE\, The Makers’ Market.
URL:https://arte.ae/events-old/arte-at-times-square-center-11/
LOCATION:Times Square Center\, Times Square Center\, 4B St - Al Quoz - Dubai\, Dubai\, United Arab Emirates
ATTACH;FMTTYPE=image/jpeg:https://arte.ae/wp-content/uploads/2025/01/TSC.jpg
END:VEVENT
BEGIN:VEVENT
DTSTART;TZID=UTC:20260606T100000
DTEND;TZID=UTC:20260606T220000
DTSTAMP:20260420T004511
CREATED:20241220T053755Z
LAST-MODIFIED:20260105T084829Z
UID:2434-1780740000-1780783200@arte.ae
SUMMARY:ARTE at Mercato Mall
DESCRIPTION:Mercato Mall\, located on Jumeirah Beach Road\, is one of Dubai’s most charismatic and best loved shopping malls because of its individual and unequalled ambience. Although Mercato is essentially a community mall\, it also attracts tens of thousands of tourists from all over the world every year. \nMercato Mall is home to over 140 shops and service outlets and ARTE\, The Makers’ Market takes pride in sitting in this beautiful environment. This unique handmade market features 35 Artisans of the Emirates. \nFind ARTE on the first floor near Vox Cinemas\, Virgin Megastore\, Fun City and an international food court.
URL:https://arte.ae/events-old/arte-at-mercato-mall-16/
LOCATION:Mercato Mall\, Mercato Mall\, Jumeirah Beach Rd - Jumeirah - Jumeirah 1 - Dubai\, Dubai\, United Arab Emirates
ATTACH;FMTTYPE=image/jpeg:https://arte.ae/wp-content/uploads/2024/12/Hello-Mercato-Sunrise.jpeg
END:VEVENT
BEGIN:VEVENT
DTSTART;TZID=UTC:20260613T100000
DTEND;TZID=UTC:20260613T190000
DTSTAMP:20260420T004511
CREATED:20250107T054655Z
LAST-MODIFIED:20251216T183556Z
UID:2568-1781344800-1781377200@arte.ae
SUMMARY:ARTE at Times Square Center
DESCRIPTION:Times Square Center is centrally located on Sheikh Zayed Road. A uniquely compact community shopping destination which offers a perfect location to ARTE\, the Makers’ Market. \nThere are always a great number of vendors selling a variety of handmade products so you can spend plenty of time browsing to find something you like and perhaps also stop for lunch in one of the restaurants. \nShop local\, buy the unique\, one-of-a-kind gorgeousness that is ARTE\, The Makers’ Market.
URL:https://arte.ae/events-old/arte-at-times-square-center-12/
LOCATION:Times Square Center\, Times Square Center\, 4B St - Al Quoz - Dubai\, Dubai\, United Arab Emirates
ATTACH;FMTTYPE=image/jpeg:https://arte.ae/wp-content/uploads/2025/01/TSC.jpg
END:VEVENT
BEGIN:VEVENT
DTSTART;TZID=UTC:20260620T100000
DTEND;TZID=UTC:20260620T220000
DTSTAMP:20260420T004511
CREATED:20241220T053924Z
LAST-MODIFIED:20260105T084838Z
UID:2436-1781949600-1781992800@arte.ae
SUMMARY:ARTE at Mercato Mall
DESCRIPTION:Mercato Mall\, located on Jumeirah Beach Road\, is one of Dubai’s most charismatic and best loved shopping malls because of its individual and unequalled ambience. Although Mercato is essentially a community mall\, it also attracts tens of thousands of tourists from all over the world every year. \nMercato Mall is home to over 140 shops and service outlets and ARTE\, The Makers’ Market takes pride in sitting in this beautiful environment. This unique handmade market features 35 Artisans of the Emirates. \nFind ARTE on the first floor near Vox Cinemas\, Virgin Megastore\, Fun City and an international food court.
URL:https://arte.ae/events-old/arte-at-mercato-mall-15/
LOCATION:Mercato Mall\, Mercato Mall\, Jumeirah Beach Rd - Jumeirah - Jumeirah 1 - Dubai\, Dubai\, United Arab Emirates
ATTACH;FMTTYPE=image/jpeg:https://arte.ae/wp-content/uploads/2024/12/Hello-Mercato-Sunrise.jpeg
END:VEVENT
BEGIN:VEVENT
DTSTART;TZID=UTC:20260621T100000
DTEND;TZID=UTC:20260621T220000
DTSTAMP:20260420T004511
CREATED:20241220T054244Z
LAST-MODIFIED:20260105T084846Z
UID:2438-1782036000-1782079200@arte.ae
SUMMARY:ARTE at Mercato Mall
DESCRIPTION:Mercato Mall\, located on Jumeirah Beach Road\, is one of Dubai’s most charismatic and best loved shopping malls because of its individual and unequalled ambience. Although Mercato is essentially a community mall\, it also attracts tens of thousands of tourists from all over the world every year. \nMercato Mall is home to over 140 shops and service outlets and ARTE\, The Makers’ Market takes pride in sitting in this beautiful environment. This unique handmade market features 35 Artisans of the Emirates. \nFind ARTE on the first floor near Vox Cinemas\, Virgin Megastore\, Fun City and an international food court.
URL:https://arte.ae/events-old/arte-at-mercato-mall-14/
LOCATION:Mercato Mall\, Mercato Mall\, Jumeirah Beach Rd - Jumeirah - Jumeirah 1 - Dubai\, Dubai\, United Arab Emirates
ATTACH;FMTTYPE=image/jpeg:https://arte.ae/wp-content/uploads/2024/12/Hello-Mercato-Sunrise.jpeg
END:VEVENT
BEGIN:VEVENT
DTSTART;TZID=UTC:20260627T100000
DTEND;TZID=UTC:20260627T190000
DTSTAMP:20260420T004511
CREATED:20250107T054718Z
LAST-MODIFIED:20260418T134329Z
UID:2567-1782554400-1782586800@arte.ae
SUMMARY:ARTE at Times Square Center
DESCRIPTION:Times Square Center is centrally located on Sheikh Zayed Road. A uniquely compact community shopping destination which offers a perfect location to ARTE\, the Makers’ Market. \nThere are always a great number of vendors selling a variety of handmade products so you can spend plenty of time browsing to find something you like and perhaps also stop for lunch in one of the restaurants. \nShop local\, buy the unique\, one-of-a-kind gorgeousness that is ARTE\, The Makers’ Market.
URL:https://arte.ae/events-old/arte-at-times-square-center-13/
LOCATION:Times Square Center\, Times Square Center\, 4B St - Al Quoz - Dubai\, Dubai\, United Arab Emirates
ATTACH;FMTTYPE=image/jpeg:https://arte.ae/wp-content/uploads/2025/01/TSC.jpg
END:VEVENT
BEGIN:VEVENT
DTSTART;TZID=UTC:20260905T100000
DTEND;TZID=UTC:20260905T220000
DTSTAMP:20260420T004511
CREATED:20241220T070205Z
LAST-MODIFIED:20260105T085004Z
UID:2442-1788602400-1788645600@arte.ae
SUMMARY:ARTE at Mercato Mall
DESCRIPTION:Mercato Mall\, located on Jumeirah Beach Road\, is one of Dubai’s most charismatic and best loved shopping malls because of its individual and unequalled ambience. Although Mercato is essentially a community mall\, it also attracts tens of thousands of tourists from all over the world every year. \nMercato Mall is home to over 140 shops and service outlets and ARTE\, The Makers’ Market takes pride in sitting in this beautiful environment. This unique handmade market features 35 Artisans of the Emirates. \nFind ARTE on the first floor near Vox Cinemas\, Virgin Megastore\, Fun City and an international food court.
URL:https://arte.ae/events-old/arte-at-mercato-mall-13/
LOCATION:Mercato Mall\, Mercato Mall\, Jumeirah Beach Rd - Jumeirah - Jumeirah 1 - Dubai\, Dubai\, United Arab Emirates
ATTACH;FMTTYPE=image/jpeg:https://arte.ae/wp-content/uploads/2024/12/Hello-Mercato-Sunrise.jpeg
END:VEVENT
BEGIN:VEVENT
DTSTART;TZID=UTC:20260919T100000
DTEND;TZID=UTC:20260919T220000
DTSTAMP:20260420T004511
CREATED:20241220T070342Z
LAST-MODIFIED:20260105T085013Z
UID:2444-1789812000-1789855200@arte.ae
SUMMARY:ARTE at Mercato Mall
DESCRIPTION:Mercato Mall\, located on Jumeirah Beach Road\, is one of Dubai’s most charismatic and best loved shopping malls because of its individual and unequalled ambience. Although Mercato is essentially a community mall\, it also attracts tens of thousands of tourists from all over the world every year. \nMercato Mall is home to over 140 shops and service outlets and ARTE\, The Makers’ Market takes pride in sitting in this beautiful environment. This unique handmade market features 35 Artisans of the Emirates. \nFind ARTE on the first floor near Vox Cinemas\, Virgin Megastore\, Fun City and an international food court.
URL:https://arte.ae/events-old/arte-at-mercato-mall-12/
LOCATION:Mercato Mall\, Mercato Mall\, Jumeirah Beach Rd - Jumeirah - Jumeirah 1 - Dubai\, Dubai\, United Arab Emirates
ATTACH;FMTTYPE=image/jpeg:https://arte.ae/wp-content/uploads/2024/12/Hello-Mercato-Sunrise.jpeg
END:VEVENT
BEGIN:VEVENT
DTSTART;TZID=UTC:20260920T100000
DTEND;TZID=UTC:20260920T220000
DTSTAMP:20260420T004511
CREATED:20241220T070507Z
LAST-MODIFIED:20260105T085024Z
UID:2446-1789898400-1789941600@arte.ae
SUMMARY:ARTE at Mercato Mall
DESCRIPTION:Mercato Mall\, located on Jumeirah Beach Road\, is one of Dubai’s most charismatic and best loved shopping malls because of its individual and unequalled ambience. Although Mercato is essentially a community mall\, it also attracts tens of thousands of tourists from all over the world every year. \nMercato Mall is home to over 140 shops and service outlets and ARTE\, The Makers’ Market takes pride in sitting in this beautiful environment. This unique handmade market features 35 Artisans of the Emirates. \nFind ARTE on the first floor near Vox Cinemas\, Virgin Megastore\, Fun City and an international food court.
URL:https://arte.ae/events-old/arte-at-mercato-mall-11/
LOCATION:Mercato Mall\, Mercato Mall\, Jumeirah Beach Rd - Jumeirah - Jumeirah 1 - Dubai\, Dubai\, United Arab Emirates
ATTACH;FMTTYPE=image/jpeg:https://arte.ae/wp-content/uploads/2024/12/Hello-Mercato-Sunrise.jpeg
END:VEVENT
BEGIN:VEVENT
DTSTART;TZID=UTC:20261003T100000
DTEND;TZID=UTC:20261003T220000
DTSTAMP:20260420T004511
CREATED:20241220T070641Z
LAST-MODIFIED:20260105T085206Z
UID:2448-1791021600-1791064800@arte.ae
SUMMARY:ARTE at Mercato Mall
DESCRIPTION:Mercato Mall\, located on Jumeirah Beach Road\, is one of Dubai’s most charismatic and best loved shopping malls because of its individual and unequalled ambience. Although Mercato is essentially a community mall\, it also attracts tens of thousands of tourists from all over the world every year. \nMercato Mall is home to over 140 shops and service outlets and ARTE\, The Makers’ Market takes pride in sitting in this beautiful environment. This unique handmade market features 35 Artisans of the Emirates. \nFind ARTE on the first floor near Vox Cinemas\, Virgin Megastore\, Fun City and an international food court.
URL:https://arte.ae/events-old/arte-at-mercato-mall-10/
LOCATION:Mercato Mall\, Mercato Mall\, Jumeirah Beach Rd - Jumeirah - Jumeirah 1 - Dubai\, Dubai\, United Arab Emirates
ATTACH;FMTTYPE=image/jpeg:https://arte.ae/wp-content/uploads/2024/12/Hello-Mercato-Sunrise.jpeg
END:VEVENT
BEGIN:VEVENT
DTSTART;TZID=UTC:20261017T100000
DTEND;TZID=UTC:20261017T220000
DTSTAMP:20260420T004511
CREATED:20241220T070817Z
LAST-MODIFIED:20260105T085217Z
UID:2450-1792231200-1792274400@arte.ae
SUMMARY:ARTE at Mercato Mall
DESCRIPTION:Mercato Mall\, located on Jumeirah Beach Road\, is one of Dubai’s most charismatic and best loved shopping malls because of its individual and unequalled ambience. Although Mercato is essentially a community mall\, it also attracts tens of thousands of tourists from all over the world every year. \nMercato Mall is home to over 140 shops and service outlets and ARTE\, The Makers’ Market takes pride in sitting in this beautiful environment. This unique handmade market features 35 Artisans of the Emirates. \nFind ARTE on the first floor near Vox Cinemas\, Virgin Megastore\, Fun City and an international food court.
URL:https://arte.ae/events-old/arte-at-mercato-mall-9/
LOCATION:Mercato Mall\, Mercato Mall\, Jumeirah Beach Rd - Jumeirah - Jumeirah 1 - Dubai\, Dubai\, United Arab Emirates
ATTACH;FMTTYPE=image/jpeg:https://arte.ae/wp-content/uploads/2024/12/Hello-Mercato-Sunrise.jpeg
END:VEVENT
BEGIN:VEVENT
DTSTART;TZID=UTC:20261018T100000
DTEND;TZID=UTC:20261018T220000
DTSTAMP:20260420T004511
CREATED:20241220T070936Z
LAST-MODIFIED:20260105T085225Z
UID:2452-1792317600-1792360800@arte.ae
SUMMARY:ARTE at Mercato Mall
DESCRIPTION:Mercato Mall\, located on Jumeirah Beach Road\, is one of Dubai’s most charismatic and best loved shopping malls because of its individual and unequalled ambience. Although Mercato is essentially a community mall\, it also attracts tens of thousands of tourists from all over the world every year. \nMercato Mall is home to over 140 shops and service outlets and ARTE\, The Makers’ Market takes pride in sitting in this beautiful environment. This unique handmade market features 35 Artisans of the Emirates. \nFind ARTE on the first floor near Vox Cinemas\, Virgin Megastore\, Fun City and an international food court.
URL:https://arte.ae/events-old/arte-at-mercato-mall-8/
LOCATION:Mercato Mall\, Mercato Mall\, Jumeirah Beach Rd - Jumeirah - Jumeirah 1 - Dubai\, Dubai\, United Arab Emirates
ATTACH;FMTTYPE=image/jpeg:https://arte.ae/wp-content/uploads/2024/12/Hello-Mercato-Sunrise.jpeg
END:VEVENT
BEGIN:VEVENT
DTSTART;TZID=UTC:20261107T100000
DTEND;TZID=UTC:20261107T220000
DTSTAMP:20260420T004511
CREATED:20241220T071132Z
LAST-MODIFIED:20260105T085258Z
UID:2454-1794045600-1794088800@arte.ae
SUMMARY:ARTE at Mercato Mall
DESCRIPTION:Mercato Mall\, located on Jumeirah Beach Road\, is one of Dubai’s most charismatic and best loved shopping malls because of its individual and unequalled ambience. Although Mercato is essentially a community mall\, it also attracts tens of thousands of tourists from all over the world every year. \nMercato Mall is home to over 140 shops and service outlets and ARTE\, The Makers’ Market takes pride in sitting in this beautiful environment. This unique handmade market features 35 Artisans of the Emirates. \nFind ARTE on the first floor near Vox Cinemas\, Virgin Megastore\, Fun City and an international food court.
URL:https://arte.ae/events-old/arte-at-mercato-mall-7/
LOCATION:Mercato Mall\, Mercato Mall\, Jumeirah Beach Rd - Jumeirah - Jumeirah 1 - Dubai\, Dubai\, United Arab Emirates
ATTACH;FMTTYPE=image/jpeg:https://arte.ae/wp-content/uploads/2024/12/Hello-Mercato-Sunrise.jpeg
END:VEVENT
BEGIN:VEVENT
DTSTART;TZID=UTC:20261121T100000
DTEND;TZID=UTC:20261121T220000
DTSTAMP:20260420T004511
CREATED:20241220T071226Z
LAST-MODIFIED:20260105T085308Z
UID:2457-1795255200-1795298400@arte.ae
SUMMARY:ARTE at Mercato Mall
DESCRIPTION:Mercato Mall\, located on Jumeirah Beach Road\, is one of Dubai’s most charismatic and best loved shopping malls because of its individual and unequalled ambience. Although Mercato is essentially a community mall\, it also attracts tens of thousands of tourists from all over the world every year. \nMercato Mall is home to over 140 shops and service outlets and ARTE\, The Makers’ Market takes pride in sitting in this beautiful environment. This unique handmade market features 35 Artisans of the Emirates. \nFind ARTE on the first floor near Vox Cinemas\, Virgin Megastore\, Fun City and an international food court.
URL:https://arte.ae/events-old/arte-at-mercato-mall-6/
LOCATION:Mercato Mall\, Mercato Mall\, Jumeirah Beach Rd - Jumeirah - Jumeirah 1 - Dubai\, Dubai\, United Arab Emirates
ATTACH;FMTTYPE=image/jpeg:https://arte.ae/wp-content/uploads/2024/12/Hello-Mercato-Sunrise.jpeg
END:VEVENT
BEGIN:VEVENT
DTSTART;TZID=UTC:20261122T100000
DTEND;TZID=UTC:20261122T220000
DTSTAMP:20260420T004511
CREATED:20241220T071338Z
LAST-MODIFIED:20260105T085317Z
UID:2458-1795341600-1795384800@arte.ae
SUMMARY:ARTE at Mercato Mall
DESCRIPTION:Mercato Mall\, located on Jumeirah Beach Road\, is one of Dubai’s most charismatic and best loved shopping malls because of its individual and unequalled ambience. Although Mercato is essentially a community mall\, it also attracts tens of thousands of tourists from all over the world every year. \nMercato Mall is home to over 140 shops and service outlets and ARTE\, The Makers’ Market takes pride in sitting in this beautiful environment. This unique handmade market features 35 Artisans of the Emirates. \nFind ARTE on the first floor near Vox Cinemas\, Virgin Megastore\, Fun City and an international food court.
URL:https://arte.ae/events-old/arte-at-mercato-mall-5/
LOCATION:Mercato Mall\, Mercato Mall\, Jumeirah Beach Rd - Jumeirah - Jumeirah 1 - Dubai\, Dubai\, United Arab Emirates
ATTACH;FMTTYPE=image/jpeg:https://arte.ae/wp-content/uploads/2024/12/Hello-Mercato-Sunrise.jpeg
END:VEVENT
BEGIN:VEVENT
DTSTART;TZID=UTC:20261205T100000
DTEND;TZID=UTC:20261205T220000
DTSTAMP:20260420T004511
CREATED:20241220T071601Z
LAST-MODIFIED:20260105T085352Z
UID:2462-1796464800-1796508000@arte.ae
SUMMARY:ARTE at Mercato Mall
DESCRIPTION:Mercato Mall\, located on Jumeirah Beach Road\, is one of Dubai’s most charismatic and best loved shopping malls because of its individual and unequalled ambience. Although Mercato is essentially a community mall\, it also attracts tens of thousands of tourists from all over the world every year. \nMercato Mall is home to over 140 shops and service outlets and ARTE\, The Makers’ Market takes pride in sitting in this beautiful environment. This unique handmade market features 35 Artisans of the Emirates. \nFind ARTE on the first floor near Vox Cinemas\, Virgin Megastore\, Fun City and an international food court.
URL:https://arte.ae/events-old/arte-at-mercato-mall-4/
LOCATION:Mercato Mall\, Mercato Mall\, Jumeirah Beach Rd - Jumeirah - Jumeirah 1 - Dubai\, Dubai\, United Arab Emirates
ATTACH;FMTTYPE=image/jpeg:https://arte.ae/wp-content/uploads/2024/12/Hello-Mercato-Sunrise.jpeg
END:VEVENT
BEGIN:VEVENT
DTSTART;TZID=UTC:20261206T100000
DTEND;TZID=UTC:20261206T220000
DTSTAMP:20260420T004511
CREATED:20241220T071654Z
LAST-MODIFIED:20260105T085406Z
UID:2463-1796551200-1796594400@arte.ae
SUMMARY:ARTE at Mercato Mall
DESCRIPTION:Mercato Mall\, located on Jumeirah Beach Road\, is one of Dubai’s most charismatic and best loved shopping malls because of its individual and unequalled ambience. Although Mercato is essentially a community mall\, it also attracts tens of thousands of tourists from all over the world every year. \nMercato Mall is home to over 140 shops and service outlets and ARTE\, The Makers’ Market takes pride in sitting in this beautiful environment. This unique handmade market features 35 Artisans of the Emirates. \nFind ARTE on the first floor near Vox Cinemas\, Virgin Megastore\, Fun City and an international food court.
URL:https://arte.ae/events-old/arte-at-mercato-mall-3/
LOCATION:Mercato Mall\, Mercato Mall\, Jumeirah Beach Rd - Jumeirah - Jumeirah 1 - Dubai\, Dubai\, United Arab Emirates
ATTACH;FMTTYPE=image/jpeg:https://arte.ae/wp-content/uploads/2024/12/Hello-Mercato-Sunrise.jpeg
END:VEVENT
BEGIN:VEVENT
DTSTART;TZID=UTC:20261219T100000
DTEND;TZID=UTC:20261219T220000
DTSTAMP:20260420T004511
CREATED:20241220T071746Z
LAST-MODIFIED:20260105T085421Z
UID:2464-1797674400-1797717600@arte.ae
SUMMARY:ARTE at Mercato Mall
DESCRIPTION:Mercato Mall\, located on Jumeirah Beach Road\, is one of Dubai’s most charismatic and best loved shopping malls because of its individual and unequalled ambience. Although Mercato is essentially a community mall\, it also attracts tens of thousands of tourists from all over the world every year. \nMercato Mall is home to over 140 shops and service outlets and ARTE\, The Makers’ Market takes pride in sitting in this beautiful environment. This unique handmade market features 35 Artisans of the Emirates. \nFind ARTE on the first floor near Vox Cinemas\, Virgin Megastore\, Fun City and an international food court.
URL:https://arte.ae/events-old/arte-at-mercato-mall-2/
LOCATION:Mercato Mall\, Mercato Mall\, Jumeirah Beach Rd - Jumeirah - Jumeirah 1 - Dubai\, Dubai\, United Arab Emirates
ATTACH;FMTTYPE=image/jpeg:https://arte.ae/wp-content/uploads/2024/12/Hello-Mercato-Sunrise.jpeg
END:VEVENT
BEGIN:VEVENT
DTSTART;TZID=UTC:20261220T100000
DTEND;TZID=UTC:20261220T220000
DTSTAMP:20260420T004511
CREATED:20250615T071838Z
LAST-MODIFIED:20260105T085430Z
UID:2465-1797760800-1797804000@arte.ae
SUMMARY:ARTE at Mercato Mall
DESCRIPTION:Mercato Mall\, located on Jumeirah Beach Road\, is one of Dubai’s most charismatic and best loved shopping malls because of its individual and unequalled ambience. Although Mercato is essentially a community mall\, it also attracts tens of thousands of tourists from all over the world every year. \nMercato Mall is home to over 140 shops and service outlets and ARTE\, The Makers’ Market takes pride in sitting in this beautiful environment. This unique handmade market features 35 Artisans of the Emirates. \nFind ARTE on the first floor near Vox Cinemas\, Virgin Megastore\, Fun City and an international food court.
URL:https://arte.ae/events-old/arte-at-mercato-mall/
LOCATION:Mercato Mall\, Mercato Mall\, Jumeirah Beach Rd - Jumeirah - Jumeirah 1 - Dubai\, Dubai\, United Arab Emirates
ATTACH;FMTTYPE=image/jpeg:https://arte.ae/wp-content/uploads/2024/12/Hello-Mercato-Sunrise.jpeg
END:VEVENT
END:VCALENDAR